BEGIN:VCALENDAR
VERSION:2.0
PRODID:-//Gladiators - ECPv6.15.17.1//NONSGML v1.0//EN
CALSCALE:GREGORIAN
METHOD:PUBLISH
X-ORIGINAL-URL:https://gladiators.at
X-WR-CALDESC:Veranstaltungen für Gladiators
REFRESH-INTERVAL;VALUE=DURATION:PT1H
X-Robots-Tag:noindex
X-PUBLISHED-TTL:PT1H
BEGIN:VTIMEZONE
TZID:Europe/Vienna
BEGIN:DAYLIGHT
TZOFFSETFROM:+0100
TZOFFSETTO:+0200
TZNAME:CEST
DTSTART:20210328T010000
END:DAYLIGHT
BEGIN:STANDARD
TZOFFSETFROM:+0200
TZOFFSETTO:+0100
TZNAME:CET
DTSTART:20211031T010000
END:STANDARD
BEGIN:DAYLIGHT
TZOFFSETFROM:+0100
TZOFFSETTO:+0200
TZNAME:CEST
DTSTART:20220327T010000
END:DAYLIGHT
BEGIN:STANDARD
TZOFFSETFROM:+0200
TZOFFSETTO:+0100
TZNAME:CET
DTSTART:20221030T010000
END:STANDARD
BEGIN:DAYLIGHT
TZOFFSETFROM:+0100
TZOFFSETTO:+0200
TZNAME:CEST
DTSTART:20230326T010000
END:DAYLIGHT
BEGIN:STANDARD
TZOFFSETFROM:+0200
TZOFFSETTO:+0100
TZNAME:CET
DTSTART:20231029T010000
END:STANDARD
END:VTIMEZONE
BEGIN:VEVENT
DTSTART;TZID=Europe/Vienna:20220514T140000
DTEND;TZID=Europe/Vienna:20220514T160000
DTSTAMP:20260420T215100
CREATED:20220211T085518Z
LAST-MODIFIED:20220211T085518Z
UID:4584-1652536800-1652544000@gladiators.at
SUMMARY:Gladiators Ried vs. Gmunden Rams (HOME)
DESCRIPTION:4. Spieltag
URL:https://gladiators.at/termine/gladiators-ried-vs-gmunden-rams-home/
LOCATION:Colloseum Noricum\, Voglweg 13\, Ried im Innkreis\, 4910\, Österreich
CATEGORIES:GAMEDAY
END:VEVENT
END:VCALENDAR