BEGIN:VCALENDAR
VERSION:2.0
PRODID:-//Gladiators - ECPv6.15.17.1//NONSGML v1.0//EN
CALSCALE:GREGORIAN
METHOD:PUBLISH
X-WR-CALNAME:Gladiators
X-ORIGINAL-URL:https://gladiators.at
X-WR-CALDESC:Veranstaltungen für Gladiators
REFRESH-INTERVAL;VALUE=DURATION:PT1H
X-Robots-Tag:noindex
X-PUBLISHED-TTL:PT1H
BEGIN:VTIMEZONE
TZID:Europe/Vienna
BEGIN:DAYLIGHT
TZOFFSETFROM:+0100
TZOFFSETTO:+0200
TZNAME:CEST
DTSTART:20210328T010000
END:DAYLIGHT
BEGIN:STANDARD
TZOFFSETFROM:+0200
TZOFFSETTO:+0100
TZNAME:CET
DTSTART:20211031T010000
END:STANDARD
BEGIN:DAYLIGHT
TZOFFSETFROM:+0100
TZOFFSETTO:+0200
TZNAME:CEST
DTSTART:20220327T010000
END:DAYLIGHT
BEGIN:STANDARD
TZOFFSETFROM:+0200
TZOFFSETTO:+0100
TZNAME:CET
DTSTART:20221030T010000
END:STANDARD
BEGIN:DAYLIGHT
TZOFFSETFROM:+0100
TZOFFSETTO:+0200
TZNAME:CEST
DTSTART:20230326T010000
END:DAYLIGHT
BEGIN:STANDARD
TZOFFSETFROM:+0200
TZOFFSETTO:+0100
TZNAME:CET
DTSTART:20231029T010000
END:STANDARD
END:VTIMEZONE
BEGIN:VEVENT
DTSTART;TZID=Europe/Vienna:20220625T150000
DTEND;TZID=Europe/Vienna:20220625T170000
DTSTAMP:20260420T200251
CREATED:20220211T090336Z
LAST-MODIFIED:20220211T090336Z
UID:4591-1656169200-1656176400@gladiators.at
SUMMARY:Styrian Reavers vs. Gladiators Ried (AWAY)
DESCRIPTION:8. Spieltag
URL:https://gladiators.at/termine/styrian-reavers-vs-gladiators-ried-away/
LOCATION:Julius-Meinl Stadion\, Sportplatzweg\, Gundersdorf\, Steiermark\, 8413\, Austria
CATEGORIES:GAMEDAY
END:VEVENT
END:VCALENDAR