BEGIN:VCALENDAR
VERSION:2.0
PRODID:-//Gladiators - ECPv6.15.17.1//NONSGML v1.0//EN
CALSCALE:GREGORIAN
METHOD:PUBLISH
X-ORIGINAL-URL:https://gladiators.at
X-WR-CALDESC:Veranstaltungen für Gladiators
REFRESH-INTERVAL;VALUE=DURATION:PT1H
X-Robots-Tag:noindex
X-PUBLISHED-TTL:PT1H
BEGIN:VTIMEZONE
TZID:Europe/Vienna
BEGIN:DAYLIGHT
TZOFFSETFROM:+0100
TZOFFSETTO:+0200
TZNAME:CEST
DTSTART:20210328T010000
END:DAYLIGHT
BEGIN:STANDARD
TZOFFSETFROM:+0200
TZOFFSETTO:+0100
TZNAME:CET
DTSTART:20211031T010000
END:STANDARD
BEGIN:DAYLIGHT
TZOFFSETFROM:+0100
TZOFFSETTO:+0200
TZNAME:CEST
DTSTART:20220327T010000
END:DAYLIGHT
BEGIN:STANDARD
TZOFFSETFROM:+0200
TZOFFSETTO:+0100
TZNAME:CET
DTSTART:20221030T010000
END:STANDARD
BEGIN:DAYLIGHT
TZOFFSETFROM:+0100
TZOFFSETTO:+0200
TZNAME:CEST
DTSTART:20230326T010000
END:DAYLIGHT
BEGIN:STANDARD
TZOFFSETFROM:+0200
TZOFFSETTO:+0100
TZNAME:CET
DTSTART:20231029T010000
END:STANDARD
BEGIN:DAYLIGHT
TZOFFSETFROM:+0100
TZOFFSETTO:+0200
TZNAME:CEST
DTSTART:20240331T010000
END:DAYLIGHT
BEGIN:STANDARD
TZOFFSETFROM:+0200
TZOFFSETTO:+0100
TZNAME:CET
DTSTART:20241027T010000
END:STANDARD
BEGIN:DAYLIGHT
TZOFFSETFROM:+0100
TZOFFSETTO:+0200
TZNAME:CEST
DTSTART:20250330T010000
END:DAYLIGHT
BEGIN:STANDARD
TZOFFSETFROM:+0200
TZOFFSETTO:+0100
TZNAME:CET
DTSTART:20251026T010000
END:STANDARD
BEGIN:DAYLIGHT
TZOFFSETFROM:+0100
TZOFFSETTO:+0200
TZNAME:CEST
DTSTART:20260329T010000
END:DAYLIGHT
BEGIN:STANDARD
TZOFFSETFROM:+0200
TZOFFSETTO:+0100
TZNAME:CET
DTSTART:20261025T010000
END:STANDARD
BEGIN:DAYLIGHT
TZOFFSETFROM:+0100
TZOFFSETTO:+0200
TZNAME:CEST
DTSTART:20270328T010000
END:DAYLIGHT
BEGIN:STANDARD
TZOFFSETFROM:+0200
TZOFFSETTO:+0100
TZNAME:CET
DTSTART:20271031T010000
END:STANDARD
END:VTIMEZONE
BEGIN:VEVENT
DTSTART;TZID=Europe/Vienna:20260404T150000
DTEND;TZID=Europe/Vienna:20260404T180000
DTSTAMP:20260420T145140
CREATED:20260303T071046Z
LAST-MODIFIED:20260331T112640Z
UID:7108-1775314800-1775325600@gladiators.at
SUMMARY:Schwaz Hammers vs. Gladiators Ried (Away)
DESCRIPTION:2. Spieltag
URL:https://gladiators.at/termine/schwaz-hammers-vs-gladiators-ried-away/
LOCATION:Paulinumweg 5\, 6130 Schwaz\, Paulinumweg 5\, Schwaz\, 6130
CATEGORIES:GAMEDAY
END:VEVENT
BEGIN:VEVENT
DTSTART;TZID=Europe/Vienna:20260328T140000
DTEND;TZID=Europe/Vienna:20260328T170000
DTSTAMP:20260420T145140
CREATED:20260303T070655Z
LAST-MODIFIED:20260303T071503Z
UID:7106-1774706400-1774717200@gladiators.at
SUMMARY:Gladiators Ried vs. Steelsharks Traun (HOME)
DESCRIPTION:1. Spieltag
URL:https://gladiators.at/termine/gladiators-ried-vs-steelsharks-traun-home/
LOCATION:Colloseum Noricum\, Voglweg 13\, Ried im Innkreis\, 4910\, Österreich
CATEGORIES:GAMEDAY
END:VEVENT
BEGIN:VEVENT
DTSTART;TZID=Europe/Vienna:20250628T140000
DTEND;TZID=Europe/Vienna:20250628T170000
DTSTAMP:20260420T145140
CREATED:20250118T093254Z
LAST-MODIFIED:20250118T093254Z
UID:6551-1751119200-1751130000@gladiators.at
SUMMARY:Gladiators Ried vs. Huskies Wels (HOME)
DESCRIPTION:8. Spieltag
URL:https://gladiators.at/termine/gladiators-ried-vs-huskies-wels-home-4/
LOCATION:Colloseum Noricum\, Voglweg 13\, Ried im Innkreis\, 4910\, Österreich
CATEGORIES:GAMEDAY
END:VEVENT
BEGIN:VEVENT
DTSTART;TZID=Europe/Vienna:20250614T080000
DTEND;TZID=Europe/Vienna:20250614T170000
DTSTAMP:20260420T145140
CREATED:20250118T094656Z
LAST-MODIFIED:20250118T094656Z
UID:6563-1749888000-1749920400@gladiators.at
SUMMARY:Huskies Wels vs. Gladiators Ried (Away)
DESCRIPTION:7. Spieltag
URL:https://gladiators.at/termine/huskies-wels-vs-gladiators-ried-away-3/
LOCATION:Hogo Arena Wels\, Kopernikusstraße 1a\, Wels\, 4600\, Austria
CATEGORIES:GAMEDAY
END:VEVENT
BEGIN:VEVENT
DTSTART;TZID=Europe/Vienna:20250525T150000
DTEND;TZID=Europe/Vienna:20250525T180000
DTSTAMP:20260420T145140
CREATED:20250118T094519Z
LAST-MODIFIED:20250118T094519Z
UID:6561-1748185200-1748196000@gladiators.at
SUMMARY:Styrian Rhinos vs. Gladiators Ried (Away)
DESCRIPTION:5. Spieltag
URL:https://gladiators.at/termine/styrian-rhinos-vs-gladiators-ried-away/
LOCATION:Sportanlage Oberaich\, Oberaichstraße 1\, Oberaich\, Steiermark\, 8600\, Austria
CATEGORIES:GAMEDAY
END:VEVENT
BEGIN:VEVENT
DTSTART;TZID=Europe/Vienna:20250517T140000
DTEND;TZID=Europe/Vienna:20250517T170000
DTSTAMP:20260420T145140
CREATED:20250118T093150Z
LAST-MODIFIED:20250118T093313Z
UID:6549-1747490400-1747501200@gladiators.at
SUMMARY:Gladiators Ried vs. Schwaz Hammers (HOME)
DESCRIPTION:4. Spieltag
URL:https://gladiators.at/termine/gladiators-ried-vs-schwaz-hammers-home/
LOCATION:Colloseum Noricum\, Voglweg 13\, Ried im Innkreis\, 4910\, Österreich
CATEGORIES:GAMEDAY
END:VEVENT
BEGIN:VEVENT
DTSTART;TZID=Europe/Vienna:20250510T140000
DTEND;TZID=Europe/Vienna:20250510T170000
DTSTAMP:20260420T145140
CREATED:20250128T145048Z
LAST-MODIFIED:20250128T145048Z
UID:6572-1746885600-1746896400@gladiators.at
SUMMARY:Gladiators Ried vs. Telfs Patriots (HOME)
DESCRIPTION:4. Spieltag
URL:https://gladiators.at/termine/gladiators-ried-vs-telfs-patriots-home/
LOCATION:Colloseum Noricum\, Voglweg 13\, Ried im Innkreis\, 4910\, Österreich
CATEGORIES:GAMEDAY
END:VEVENT
BEGIN:VEVENT
DTSTART;TZID=Europe/Vienna:20250503T150000
DTEND;TZID=Europe/Vienna:20250503T180000
DTSTAMP:20260420T145140
CREATED:20250118T094102Z
LAST-MODIFIED:20250118T094338Z
UID:6557-1746284400-1746295200@gladiators.at
SUMMARY:Telfs Patriots vs. Gladiators Ried (Away)
DESCRIPTION:3. Spieltag
URL:https://gladiators.at/termine/telfs-patriots-vs-gladiators-ried-away/
LOCATION:Sportzentrum Telfs\, Franz-Rimml-Straße 4\, Telfs\, Tirol\, 6410\, Austria
CATEGORIES:GAMEDAY
END:VEVENT
BEGIN:VEVENT
DTSTART;TZID=Europe/Vienna:20250412T150000
DTEND;TZID=Europe/Vienna:20250412T180000
DTSTAMP:20260420T145140
CREATED:20250118T093916Z
LAST-MODIFIED:20250118T093942Z
UID:6553-1744470000-1744480800@gladiators.at
SUMMARY:Steelsharks Traun vs. Gladiators Ried (AWAY)
DESCRIPTION:2. Spieltag
URL:https://gladiators.at/termine/steelsharks-traun-vs-gladiators-ried-away/
LOCATION:Sportzentrum und Bezirkssportanlage Traun\, Am Nordsaum 160\, Traun\, 4050\, Austria
CATEGORIES:GAMEDAY
END:VEVENT
BEGIN:VEVENT
DTSTART;TZID=Europe/Vienna:20250329T140000
DTEND;TZID=Europe/Vienna:20250329T170000
DTSTAMP:20260420T145140
CREATED:20250118T092947Z
LAST-MODIFIED:20250118T092947Z
UID:6547-1743256800-1743267600@gladiators.at
SUMMARY:Gladiators Ried vs. Styrian Rhinos (HOME)
DESCRIPTION:1. Spieltag
URL:https://gladiators.at/termine/gladiators-ried-vs-styrian-rhinos-home/
LOCATION:Colloseum Noricum\, Voglweg 13\, Ried im Innkreis\, 4910\, Österreich
CATEGORIES:GAMEDAY
END:VEVENT
BEGIN:VEVENT
DTSTART;TZID=Europe/Vienna:20240706T140000
DTEND;TZID=Europe/Vienna:20240706T170000
DTSTAMP:20260420T145140
CREATED:20240624T112204Z
LAST-MODIFIED:20240624T112204Z
UID:6369-1720274400-1720285200@gladiators.at
SUMMARY:Gladiators Ried vs. Weinviertel Spartans (HOME)
DESCRIPTION:Playoff Halbfinale
URL:https://gladiators.at/termine/gladiators-ried-vs-weinviertel-spartans-home/
LOCATION:Colloseum Noricum\, Voglweg 13\, Ried im Innkreis\, 4910\, Österreich
CATEGORIES:GAMEDAY
END:VEVENT
BEGIN:VEVENT
DTSTART;TZID=Europe/Vienna:20240622T160000
DTEND;TZID=Europe/Vienna:20240622T190000
DTSTAMP:20260420T145140
CREATED:20240301T150925Z
LAST-MODIFIED:20240321T120612Z
UID:6046-1719072000-1719082800@gladiators.at
SUMMARY:Huskies Wels vs. Gladiators Ried (AWAY)
DESCRIPTION:6. Spieltag
URL:https://gladiators.at/termine/huskies-wels-vs-gladiators-ried-away-2/
LOCATION:Hogo Arena Wels\, Kopernikusstraße 1a\, Wels\, 4600\, Austria
CATEGORIES:GAMEDAY
END:VEVENT
BEGIN:VEVENT
DTSTART;TZID=Europe/Vienna:20240525T140000
DTEND;TZID=Europe/Vienna:20240525T170000
DTSTAMP:20260420T145140
CREATED:20240301T150602Z
LAST-MODIFIED:20240301T150633Z
UID:6041-1716645600-1716656400@gladiators.at
SUMMARY:Gladiators Ried vs. Huskies Wels (HOME)
DESCRIPTION:4. Spieltag
URL:https://gladiators.at/termine/gladiators-ried-vs-huskies-wels-home-3/
LOCATION:Colloseum Noricum\, Voglweg 13\, Ried im Innkreis\, 4910\, Österreich
CATEGORIES:GAMEDAY
END:VEVENT
BEGIN:VEVENT
DTSTART;TZID=Europe/Vienna:20240511T140000
DTEND;TZID=Europe/Vienna:20240511T170000
DTSTAMP:20260420T145140
CREATED:20240301T150307Z
LAST-MODIFIED:20240301T150415Z
UID:6038-1715436000-1715446800@gladiators.at
SUMMARY:Gladiators Ried vs. Gmunden Rams (HOME)
DESCRIPTION:3. Spieltag
URL:https://gladiators.at/termine/gladiators-ried-vs-gmunden-rams/
LOCATION:Colloseum Noricum\, Voglweg 13\, Ried im Innkreis\, 4910\, Österreich
CATEGORIES:GAMEDAY
END:VEVENT
BEGIN:VEVENT
DTSTART;TZID=Europe/Vienna:20240413T170000
DTEND;TZID=Europe/Vienna:20240413T200000
DTSTAMP:20260420T145140
CREATED:20240301T150154Z
LAST-MODIFIED:20240301T150455Z
UID:6036-1713027600-1713038400@gladiators.at
SUMMARY:Gmunden Rams vs. Gladiators Ried (AWAY)
DESCRIPTION:2. Spieltag
URL:https://gladiators.at/termine/gmunden-rams-vs-gladiators-ried-away-3/
LOCATION:SEP-Arena Gmunden\, Karl Plentzner-Straße 9a\, Gmunden\, 4810\, Österreich
CATEGORIES:GAMEDAY
END:VEVENT
BEGIN:VEVENT
DTSTART;TZID=Europe/Vienna:20240406T140000
DTEND;TZID=Europe/Vienna:20240406T170000
DTSTAMP:20260420T145140
CREATED:20240301T150015Z
LAST-MODIFIED:20240321T115755Z
UID:6034-1712412000-1712422800@gladiators.at
SUMMARY:Gladiators Ried vs. Upper Styrian Rhinos (HOME)
DESCRIPTION:1. Spieltag
URL:https://gladiators.at/termine/gladiators-ried-vs-huskies-wels-home-2/
LOCATION:Colloseum Noricum\, Voglweg 13\, Ried im Innkreis\, 4910\, Österreich
CATEGORIES:GAMEDAY
END:VEVENT
BEGIN:VEVENT
DTSTART;TZID=Europe/Vienna:20230625T150000
DTEND;TZID=Europe/Vienna:20230625T180000
DTSTAMP:20260420T145140
CREATED:20230206T143317Z
LAST-MODIFIED:20230206T143317Z
UID:5483-1687705200-1687716000@gladiators.at
SUMMARY:Styrian Reavers vs. Gladiators Ried (AWAY)
DESCRIPTION:8. Spieltag
URL:https://gladiators.at/termine/styrian-reavers-vs-gladiators-ried-away-2/
LOCATION:Julius-Meinl Stadion\, Sportplatzweg\, Gundersdorf\, Steiermark\, 8413\, Austria
CATEGORIES:GAMEDAY
END:VEVENT
BEGIN:VEVENT
DTSTART;TZID=Europe/Vienna:20230604T150000
DTEND;TZID=Europe/Vienna:20230604T180000
DTSTAMP:20260420T145140
CREATED:20230206T143217Z
LAST-MODIFIED:20230210T090527Z
UID:5481-1685890800-1685901600@gladiators.at
SUMMARY:BSK Ravens vs. Gladiators Ried (AWAY)
DESCRIPTION:7. Spieltag
URL:https://gladiators.at/termine/bsk-ravens-vs-gladiators-ried-away/
LOCATION:Sportplatz Bürgerau Saalfelden\, Lichtenbergstraße 9d\, Saalfelden\, Salzburg\, 5760\, Austria
CATEGORIES:GAMEDAY
END:VEVENT
BEGIN:VEVENT
DTSTART;TZID=Europe/Vienna:20230527T140000
DTEND;TZID=Europe/Vienna:20230527T170000
DTSTAMP:20260420T145140
CREATED:20230206T142932Z
LAST-MODIFIED:20230206T142932Z
UID:5478-1685196000-1685206800@gladiators.at
SUMMARY:Gladiators Ried vs. Gmunden Rams (HOME)
DESCRIPTION:6. Spieltag
URL:https://gladiators.at/termine/gladiators-ried-vs-gmunden-rams-home-2/
LOCATION:Colloseum Noricum\, Voglweg 13\, Ried im Innkreis\, 4910\, Österreich
CATEGORIES:GAMEDAY
END:VEVENT
BEGIN:VEVENT
DTSTART;TZID=Europe/Vienna:20230513T140000
DTEND;TZID=Europe/Vienna:20230513T170000
DTSTAMP:20260420T145140
CREATED:20230206T142731Z
LAST-MODIFIED:20230206T142731Z
UID:5475-1683986400-1683997200@gladiators.at
SUMMARY:Gladiators Ried vs. Huskies Wels (HOME)
DESCRIPTION:5. Spieltag
URL:https://gladiators.at/termine/gladiators-ried-vs-huskies-wels-home/
LOCATION:Colloseum Noricum\, Voglweg 13\, Ried im Innkreis\, 4910\, Österreich
CATEGORIES:GAMEDAY
END:VEVENT
BEGIN:VEVENT
DTSTART;TZID=Europe/Vienna:20230507T130000
DTEND;TZID=Europe/Vienna:20230507T160000
DTSTAMP:20260420T145140
CREATED:20230206T142459Z
LAST-MODIFIED:20230206T143408Z
UID:5473-1683464400-1683475200@gladiators.at
SUMMARY:Gmunden Rams vs. Gladiators Ried (AWAY)
DESCRIPTION:4. Spieltag
URL:https://gladiators.at/termine/gmunden-rams-vs-gladiators-ried-away-2/
LOCATION:SEP-Arena Gmunden\, Karl Plentzner-Straße 9a\, Gmunden\, 4810\, Österreich
CATEGORIES:GAMEDAY
END:VEVENT
BEGIN:VEVENT
DTSTART;TZID=Europe/Vienna:20230408T140000
DTEND;TZID=Europe/Vienna:20230408T170000
DTSTAMP:20260420T145140
CREATED:20230206T142109Z
LAST-MODIFIED:20230206T143513Z
UID:5471-1680962400-1680973200@gladiators.at
SUMMARY:Gladiators Ried vs. Styrian Reavers (HOME)
DESCRIPTION:3. Spieltag
URL:https://gladiators.at/termine/gladiators-ried-vs-styrian-reavers-home-2/
LOCATION:Colloseum Noricum\, Voglweg 13\, Ried im Innkreis\, 4910\, Österreich
CATEGORIES:GAMEDAY
END:VEVENT
BEGIN:VEVENT
DTSTART;TZID=Europe/Vienna:20230401T140000
DTEND;TZID=Europe/Vienna:20230401T170000
DTSTAMP:20260420T145140
CREATED:20230206T141957Z
LAST-MODIFIED:20230206T143622Z
UID:5468-1680357600-1680368400@gladiators.at
SUMMARY:Gladiators Ried vs. BSK Ravens (HOME)
DESCRIPTION:2. Spieltag
URL:https://gladiators.at/termine/gladiators-ried-vs-bsk-ravens-home/
LOCATION:Colloseum Noricum\, Voglweg 13\, Ried im Innkreis\, 4910\, Österreich
CATEGORIES:GAMEDAY
END:VEVENT
BEGIN:VEVENT
DTSTART;TZID=Europe/Vienna:20230325T150000
DTEND;TZID=Europe/Vienna:20230325T180000
DTSTAMP:20260420T145140
CREATED:20230206T141807Z
LAST-MODIFIED:20230206T143551Z
UID:5465-1679756400-1679767200@gladiators.at
SUMMARY:Huskies Wels vs. Gladiators Ried (AWAY)
DESCRIPTION:1. Spieltag
URL:https://gladiators.at/termine/huskies-wels-vs-gladiators-ried-away/
LOCATION:OPRIA GALAXY Arena\, Gärtnerstraße 6\, Gunskirchen\, 4623\, Austria
CATEGORIES:GAMEDAY
END:VEVENT
BEGIN:VEVENT
DTSTART;TZID=Europe/Vienna:20230212T200000
DTEND;TZID=Europe/Vienna:20230213T043000
DTSTAMP:20260420T145140
CREATED:20230210T105456Z
LAST-MODIFIED:20230210T105456Z
UID:5497-1676232000-1676262600@gladiators.at
SUMMARY:Super Bowl Party
DESCRIPTION:
URL:https://gladiators.at/termine/super-bowl-party/
LOCATION:UVC Volleydome Ried\, Messeplatz 4\, Ried\, Oberösterreich\, 4910\, Austria
END:VEVENT
BEGIN:VEVENT
DTSTART;TZID=Europe/Vienna:20220625T150000
DTEND;TZID=Europe/Vienna:20220625T170000
DTSTAMP:20260420T145140
CREATED:20220211T090336Z
LAST-MODIFIED:20220211T090336Z
UID:4591-1656169200-1656176400@gladiators.at
SUMMARY:Styrian Reavers vs. Gladiators Ried (AWAY)
DESCRIPTION:8. Spieltag
URL:https://gladiators.at/termine/styrian-reavers-vs-gladiators-ried-away/
LOCATION:Julius-Meinl Stadion\, Sportplatzweg\, Gundersdorf\, Steiermark\, 8413\, Austria
CATEGORIES:GAMEDAY
END:VEVENT
BEGIN:VEVENT
DTSTART;TZID=Europe/Vienna:20220611T150000
DTEND;TZID=Europe/Vienna:20220611T170000
DTSTAMP:20260420T145140
CREATED:20220211T090147Z
LAST-MODIFIED:20220211T090147Z
UID:4588-1654959600-1654966800@gladiators.at
SUMMARY:Upper Styrian Rhinos vs. Gladiators Ried (AWAY)
DESCRIPTION:7. Spieltag
URL:https://gladiators.at/termine/upper-styrian-rhinos-vs-gladiators-ried-away/
LOCATION:Sportanlage Oberaich\, Oberaichstraße 1\, Oberaich\, Steiermark\, 8600\, Austria
CATEGORIES:GAMEDAY
END:VEVENT
BEGIN:VEVENT
DTSTART;TZID=Europe/Vienna:20220514T140000
DTEND;TZID=Europe/Vienna:20220514T160000
DTSTAMP:20260420T145140
CREATED:20220211T085518Z
LAST-MODIFIED:20220211T085518Z
UID:4584-1652536800-1652544000@gladiators.at
SUMMARY:Gladiators Ried vs. Gmunden Rams (HOME)
DESCRIPTION:4. Spieltag
URL:https://gladiators.at/termine/gladiators-ried-vs-gmunden-rams-home/
LOCATION:Colloseum Noricum\, Voglweg 13\, Ried im Innkreis\, 4910\, Österreich
CATEGORIES:GAMEDAY
END:VEVENT
BEGIN:VEVENT
DTSTART;TZID=Europe/Vienna:20220430T200000
DTEND;TZID=Europe/Vienna:20220430T223000
DTSTAMP:20260420T145140
CREATED:20211216T185130Z
LAST-MODIFIED:20211216T185130Z
UID:3786-1651348800-1651357800@gladiators.at
SUMMARY:BOUNCE - Bon Jovi Tribute Show
DESCRIPTION:Unser Hauptsponsor MONOBUNT holt am 30. April 2022 mit BOUNCE Europas beste Bon Jovi Tribute Band nach Ried – und wir dürfen als Co-Host dabei sein.
URL:https://gladiators.at/termine/bounce-bon-jovi-tribute-show/
LOCATION:Jahnturnhalle\, Friedrich-Thurner-Straße 8\, Ried im Innkreis\, Oberösterreich\, 4910\, Österreich
ATTACH;FMTTYPE=image/jpeg:https://gladiators.at/wp-content/uploads/2021/12/Bon-Jovie-Tribute-scaled-1.jpg
END:VEVENT
BEGIN:VEVENT
DTSTART;TZID=Europe/Vienna:20220423T140000
DTEND;TZID=Europe/Vienna:20220423T160000
DTSTAMP:20260420T145140
CREATED:20220211T080305Z
LAST-MODIFIED:20220211T080305Z
UID:4579-1650722400-1650729600@gladiators.at
SUMMARY:Gladiators Ried vs. Styrian Reavers (HOME)
DESCRIPTION:3. Spieltag
URL:https://gladiators.at/termine/gladiators-ried-vs-styrian-reavers-home/
LOCATION:Colloseum Noricum\, Voglweg 13\, Ried im Innkreis\, 4910\, Österreich
CATEGORIES:GAMEDAY
END:VEVENT
END:VCALENDAR