BEGIN:VCALENDAR
VERSION:2.0
PRODID:-//Gladiators - ECPv6.15.17.1//NONSGML v1.0//EN
CALSCALE:GREGORIAN
METHOD:PUBLISH
X-ORIGINAL-URL:https://gladiators.at
X-WR-CALDESC:Veranstaltungen für Gladiators
REFRESH-INTERVAL;VALUE=DURATION:PT1H
X-Robots-Tag:noindex
X-PUBLISHED-TTL:PT1H
BEGIN:VTIMEZONE
TZID:Europe/Vienna
BEGIN:DAYLIGHT
TZOFFSETFROM:+0100
TZOFFSETTO:+0200
TZNAME:CEST
DTSTART:20250330T010000
END:DAYLIGHT
BEGIN:STANDARD
TZOFFSETFROM:+0200
TZOFFSETTO:+0100
TZNAME:CET
DTSTART:20251026T010000
END:STANDARD
BEGIN:DAYLIGHT
TZOFFSETFROM:+0100
TZOFFSETTO:+0200
TZNAME:CEST
DTSTART:20260329T010000
END:DAYLIGHT
BEGIN:STANDARD
TZOFFSETFROM:+0200
TZOFFSETTO:+0100
TZNAME:CET
DTSTART:20261025T010000
END:STANDARD
BEGIN:DAYLIGHT
TZOFFSETFROM:+0100
TZOFFSETTO:+0200
TZNAME:CEST
DTSTART:20270328T010000
END:DAYLIGHT
BEGIN:STANDARD
TZOFFSETFROM:+0200
TZOFFSETTO:+0100
TZNAME:CET
DTSTART:20271031T010000
END:STANDARD
END:VTIMEZONE
BEGIN:VEVENT
DTSTART;TZID=Europe/Vienna:20260502T140000
DTEND;TZID=Europe/Vienna:20260502T170000
DTSTAMP:20260420T131204
CREATED:20260303T071447Z
LAST-MODIFIED:20260303T071447Z
UID:7114-1777730400-1777741200@gladiators.at
SUMMARY:Gladiators Ried vs. Schwaz Hammers (HOME)
DESCRIPTION:4. Spieltag
URL:https://gladiators.at/termine/gladiators-ried-vs-schwaz-hammers-home-2/
LOCATION:Colloseum Noricum\, Voglweg 13\, Ried im Innkreis\, 4910\, Österreich
CATEGORIES:GAMEDAY
END:VEVENT
BEGIN:VEVENT
DTSTART;TZID=Europe/Vienna:20260516T140000
DTEND;TZID=Europe/Vienna:20260516T170000
DTSTAMP:20260420T131204
CREATED:20260303T071541Z
LAST-MODIFIED:20260303T071541Z
UID:7118-1778940000-1778950800@gladiators.at
SUMMARY:Gladiators Ried vs. Hohenems Blue Devils (HOME)
DESCRIPTION:5. Spieltag
URL:https://gladiators.at/termine/gladiators-ried-vs-hohenems-blue-devils-home/
LOCATION:Colloseum Noricum\, Voglweg 13\, Ried im Innkreis\, 4910\, Österreich
CATEGORIES:GAMEDAY
END:VEVENT
BEGIN:VEVENT
DTSTART;TZID=Europe/Vienna:20260524T140000
DTEND;TZID=Europe/Vienna:20260524T170000
DTSTAMP:20260420T131204
CREATED:20260303T071313Z
LAST-MODIFIED:20260303T071851Z
UID:7110-1779631200-1779642000@gladiators.at
SUMMARY:Mostviertel Dukes vs. Gladiators Ried (Away)
DESCRIPTION:6. Spieltag
URL:https://gladiators.at/termine/hohenems-blue-devils-vs-gladiators-ried-away/
LOCATION:Mostviertel Dukes\, Unterhausstrasse 30\, Ybbs an der Donau\, 3374\, Austria
CATEGORIES:GAMEDAY
END:VEVENT
BEGIN:VEVENT
DTSTART;TZID=Europe/Vienna:20260607T140000
DTEND;TZID=Europe/Vienna:20260607T170000
DTSTAMP:20260420T131204
CREATED:20260303T072008Z
LAST-MODIFIED:20260303T072008Z
UID:7123-1780840800-1780851600@gladiators.at
SUMMARY:Steelsharks Traun vs. Gladiators Ried (away)
DESCRIPTION:7. Spieltag
URL:https://gladiators.at/termine/steelsharks-traun-vs-gladiators-ried-away-2/
LOCATION:Sportzentrum und Bezirkssportanlage Traun\, Am Nordsaum 160\, Traun\, 4050\, Austria
CATEGORIES:GAMEDAY
END:VEVENT
BEGIN:VEVENT
DTSTART;TZID=Europe/Vienna:20260627T140000
DTEND;TZID=Europe/Vienna:20260627T170000
DTSTAMP:20260420T131204
CREATED:20260303T072053Z
LAST-MODIFIED:20260303T072053Z
UID:7125-1782568800-1782579600@gladiators.at
SUMMARY:Gladiators Ried vs. Mostviertel Dukes (HOME)
DESCRIPTION:8. Spieltag
URL:https://gladiators.at/termine/gladiators-ried-vs-mostviertel-dukes-home/
LOCATION:Colloseum Noricum\, Voglweg 13\, Ried im Innkreis\, 4910\, Österreich
CATEGORIES:GAMEDAY
END:VEVENT
END:VCALENDAR