BEGIN:VCALENDAR
VERSION:2.0
PRODID:-//Gladiators - ECPv6.15.17.1//NONSGML v1.0//EN
CALSCALE:GREGORIAN
METHOD:PUBLISH
X-ORIGINAL-URL:https://gladiators.at
X-WR-CALDESC:Veranstaltungen für Gladiators
REFRESH-INTERVAL;VALUE=DURATION:PT1H
X-Robots-Tag:noindex
X-PUBLISHED-TTL:PT1H
BEGIN:VTIMEZONE
TZID:Europe/Vienna
BEGIN:DAYLIGHT
TZOFFSETFROM:+0100
TZOFFSETTO:+0200
TZNAME:CEST
DTSTART:20210328T010000
END:DAYLIGHT
BEGIN:STANDARD
TZOFFSETFROM:+0200
TZOFFSETTO:+0100
TZNAME:CET
DTSTART:20211031T010000
END:STANDARD
BEGIN:DAYLIGHT
TZOFFSETFROM:+0100
TZOFFSETTO:+0200
TZNAME:CEST
DTSTART:20220327T010000
END:DAYLIGHT
BEGIN:STANDARD
TZOFFSETFROM:+0200
TZOFFSETTO:+0100
TZNAME:CET
DTSTART:20221030T010000
END:STANDARD
BEGIN:DAYLIGHT
TZOFFSETFROM:+0100
TZOFFSETTO:+0200
TZNAME:CEST
DTSTART:20230326T010000
END:DAYLIGHT
BEGIN:STANDARD
TZOFFSETFROM:+0200
TZOFFSETTO:+0100
TZNAME:CET
DTSTART:20231029T010000
END:STANDARD
END:VTIMEZONE
BEGIN:VEVENT
DTSTART;TZID=Europe/Vienna:20220417T170000
DTEND;TZID=Europe/Vienna:20220417T190000
DTSTAMP:20260420T215319
CREATED:20220211T080123Z
LAST-MODIFIED:20220211T080450Z
UID:4577-1650214800-1650222000@gladiators.at
SUMMARY:Gmunden Rams vs. Gladiators Ried (AWAY)
DESCRIPTION:2. Spieltag
URL:https://gladiators.at/termine/gmunden-rams-vs-gladiators-ried-away/
LOCATION:SEP-Arena Gmunden\, Karl Plentzner-Straße 9a\, Gmunden\, 4810\, Österreich
CATEGORIES:GAMEDAY
END:VEVENT
BEGIN:VEVENT
DTSTART;TZID=Europe/Vienna:20220423T140000
DTEND;TZID=Europe/Vienna:20220423T160000
DTSTAMP:20260420T215319
CREATED:20220211T080305Z
LAST-MODIFIED:20220211T080305Z
UID:4579-1650722400-1650729600@gladiators.at
SUMMARY:Gladiators Ried vs. Styrian Reavers (HOME)
DESCRIPTION:3. Spieltag
URL:https://gladiators.at/termine/gladiators-ried-vs-styrian-reavers-home/
LOCATION:Colloseum Noricum\, Voglweg 13\, Ried im Innkreis\, 4910\, Österreich
CATEGORIES:GAMEDAY
END:VEVENT
BEGIN:VEVENT
DTSTART;TZID=Europe/Vienna:20220430T200000
DTEND;TZID=Europe/Vienna:20220430T223000
DTSTAMP:20260420T215319
CREATED:20211216T185130Z
LAST-MODIFIED:20211216T185130Z
UID:3786-1651348800-1651357800@gladiators.at
SUMMARY:BOUNCE - Bon Jovi Tribute Show
DESCRIPTION:Unser Hauptsponsor MONOBUNT holt am 30. April 2022 mit BOUNCE Europas beste Bon Jovi Tribute Band nach Ried – und wir dürfen als Co-Host dabei sein.
URL:https://gladiators.at/termine/bounce-bon-jovi-tribute-show/
LOCATION:Jahnturnhalle\, Friedrich-Thurner-Straße 8\, Ried im Innkreis\, Oberösterreich\, 4910\, Österreich
ATTACH;FMTTYPE=image/jpeg:https://gladiators.at/wp-content/uploads/2021/12/Bon-Jovie-Tribute-scaled-1.jpg
END:VEVENT
END:VCALENDAR